BEGIN:VCALENDAR
VERSION:2.0
PRODID:-//100 Rural Women - ECPv6.15.20//NONSGML v1.0//EN
CALSCALE:GREGORIAN
METHOD:PUBLISH
X-ORIGINAL-URL:https://100ruralwomen.org
X-WR-CALDESC:Events for 100 Rural Women
REFRESH-INTERVAL;VALUE=DURATION:PT1H
X-Robots-Tag:noindex
X-PUBLISHED-TTL:PT1H
BEGIN:VTIMEZONE
TZID:America/Chicago
BEGIN:DAYLIGHT
TZOFFSETFROM:-0600
TZOFFSETTO:-0500
TZNAME:CDT
DTSTART:20240310T080000
END:DAYLIGHT
BEGIN:STANDARD
TZOFFSETFROM:-0500
TZOFFSETTO:-0600
TZNAME:CST
DTSTART:20241103T070000
END:STANDARD
BEGIN:DAYLIGHT
TZOFFSETFROM:-0600
TZOFFSETTO:-0500
TZNAME:CDT
DTSTART:20250309T080000
END:DAYLIGHT
BEGIN:STANDARD
TZOFFSETFROM:-0500
TZOFFSETTO:-0600
TZNAME:CST
DTSTART:20251102T070000
END:STANDARD
BEGIN:DAYLIGHT
TZOFFSETFROM:-0600
TZOFFSETTO:-0500
TZNAME:CDT
DTSTART:20260308T080000
END:DAYLIGHT
BEGIN:STANDARD
TZOFFSETFROM:-0500
TZOFFSETTO:-0600
TZNAME:CST
DTSTART:20261101T070000
END:STANDARD
END:VTIMEZONE
BEGIN:VEVENT
DTSTART;TZID=America/Chicago:20251204T083000
DTEND;TZID=America/Chicago:20251204T090000
DTSTAMP:20260423T174829
CREATED:20251005T135802Z
LAST-MODIFIED:20251005T135802Z
UID:12129-1764837000-1764838800@100ruralwomen.org
SUMMARY:Morning Connections For Women
DESCRIPTION:Register for this Morning Connection! \nWelcome and good morning! If you’re looking for a space to take time for yourself to just connect with others\, we invite you to join us. These Morning Connections sessions will consist of light conversation in an undirected space via zoom. Bring beverages\, children\, breakfast\, pets\, or work – the goal is to connect informally with other women and a host who will facilitate. We look forward to networking with you! \n \nWe hope that you enjoy your time with us during Morning Connections. Want to find more ways to connect with other women? Visit our events page to register for meetings and webinars! \nAbout 100 Rural Women\n100 Rural Women sees a future where more rural women lead positive change for themselves\, their families and communities\, the nation and the world.  We are committed to building leadership through networks\, mentorship\, education and civic engagement. Our organization is non-profit and non-partisan.
URL:https://100ruralwomen.org/event/morning-connections-for-women-94/
LOCATION:Zoom
CATEGORIES:Morning Connections For Women
ATTACH;FMTTYPE=image/png:https://100ruralwomen.org/wp-content/uploads/2022/06/1.png
END:VEVENT
BEGIN:VEVENT
DTSTART;TZID=America/Chicago:20251210T190000
DTEND;TZID=America/Chicago:20251210T200000
DTSTAMP:20260423T174829
CREATED:20251209T002843Z
LAST-MODIFIED:20251209T002843Z
UID:12274-1765393200-1765396800@100ruralwomen.org
SUMMARY:Book Club
DESCRIPTION:Connect with other readers! Discuss the book\, ask questions\, and share your thoughts with people who are also reading!
URL:https://100ruralwomen.org/event/book-club-14/
CATEGORIES:Book Club
ATTACH;FMTTYPE=image/png:https://100ruralwomen.org/wp-content/uploads/2022/06/4.png
END:VEVENT
BEGIN:VEVENT
DTSTART;TZID=America/Chicago:20251211T083000
DTEND;TZID=America/Chicago:20251211T090000
DTSTAMP:20260423T174829
CREATED:20251005T135601Z
LAST-MODIFIED:20251005T135938Z
UID:12131-1765441800-1765443600@100ruralwomen.org
SUMMARY:Morning Connections For Women
DESCRIPTION:Register for this Morning Connection! \nWelcome and good morning! If you’re looking for a space to take time for yourself to just connect with others\, we invite you to join us. These Morning Connections sessions will consist of light conversation in an undirected space via zoom. Bring beverages\, children\, breakfast\, pets\, or work – the goal is to connect informally with other women and a host who will facilitate. We look forward to networking with you! \n \nWe hope that you enjoy your time with us during Morning Connections. Want to find more ways to connect with other women? Visit our events page to register for meetings and webinars! \nAbout 100 Rural Women\n100 Rural Women sees a future where more rural women lead positive change for themselves\, their families and communities\, the nation and the world.  We are committed to building leadership through networks\, mentorship\, education and civic engagement. Our organization is non-profit and non-partisan.
URL:https://100ruralwomen.org/event/morning-connections-for-women-92/
LOCATION:Zoom
CATEGORIES:Morning Connections For Women
ATTACH;FMTTYPE=image/png:https://100ruralwomen.org/wp-content/uploads/2022/06/1.png
END:VEVENT
BEGIN:VEVENT
DTSTART;TZID=America/Chicago:20251211T083000
DTEND;TZID=America/Chicago:20251211T090000
DTSTAMP:20260423T174829
CREATED:20251005T135850Z
LAST-MODIFIED:20251005T135850Z
UID:12125-1765441800-1765443600@100ruralwomen.org
SUMMARY:Morning Connections For Women
DESCRIPTION:Register for this Morning Connection! \nWelcome and good morning! If you’re looking for a space to take time for yourself to just connect with others\, we invite you to join us. These Morning Connections sessions will consist of light conversation in an undirected space via zoom. Bring beverages\, children\, breakfast\, pets\, or work – the goal is to connect informally with other women and a host who will facilitate. We look forward to networking with you! \n \nWe hope that you enjoy your time with us during Morning Connections. Want to find more ways to connect with other women? Visit our events page to register for meetings and webinars! \nAbout 100 Rural Women\n100 Rural Women sees a future where more rural women lead positive change for themselves\, their families and communities\, the nation and the world.  We are committed to building leadership through networks\, mentorship\, education and civic engagement. Our organization is non-profit and non-partisan.
URL:https://100ruralwomen.org/event/morning-connections-for-women-95/
LOCATION:Zoom
CATEGORIES:Morning Connections For Women
ATTACH;FMTTYPE=image/png:https://100ruralwomen.org/wp-content/uploads/2022/06/1.png
END:VEVENT
BEGIN:VEVENT
DTSTART;TZID=America/Chicago:20251218T083000
DTEND;TZID=America/Chicago:20251218T090000
DTSTAMP:20260423T174829
CREATED:20251005T140045Z
LAST-MODIFIED:20251005T140045Z
UID:12139-1766046600-1766048400@100ruralwomen.org
SUMMARY:Morning Connections For Women
DESCRIPTION:Register for this Morning Connection! \nWelcome and good morning! If you’re looking for a space to take time for yourself to just connect with others\, we invite you to join us. These Morning Connections sessions will consist of light conversation in an undirected space via zoom. Bring beverages\, children\, breakfast\, pets\, or work – the goal is to connect informally with other women and a host who will facilitate. We look forward to networking with you! \n \nWe hope that you enjoy your time with us during Morning Connections. Want to find more ways to connect with other women? Visit our events page to register for meetings and webinars! \nAbout 100 Rural Women\n100 Rural Women sees a future where more rural women lead positive change for themselves\, their families and communities\, the nation and the world.  We are committed to building leadership through networks\, mentorship\, education and civic engagement. Our organization is non-profit and non-partisan.
URL:https://100ruralwomen.org/event/morning-connections-for-women-96/
LOCATION:Zoom
CATEGORIES:Morning Connections For Women
ATTACH;FMTTYPE=image/png:https://100ruralwomen.org/wp-content/uploads/2022/06/1.png
END:VEVENT
END:VCALENDAR