BEGIN:VCALENDAR
VERSION:2.0
PRODID:-//100 Rural Women - ECPv6.15.20//NONSGML v1.0//EN
CALSCALE:GREGORIAN
METHOD:PUBLISH
X-WR-CALNAME:100 Rural Women
X-ORIGINAL-URL:https://100ruralwomen.org
X-WR-CALDESC:Events for 100 Rural Women
REFRESH-INTERVAL;VALUE=DURATION:PT1H
X-Robots-Tag:noindex
X-PUBLISHED-TTL:PT1H
BEGIN:VTIMEZONE
TZID:America/Chicago
BEGIN:DAYLIGHT
TZOFFSETFROM:-0600
TZOFFSETTO:-0500
TZNAME:CDT
DTSTART:20240310T080000
END:DAYLIGHT
BEGIN:STANDARD
TZOFFSETFROM:-0500
TZOFFSETTO:-0600
TZNAME:CST
DTSTART:20241103T070000
END:STANDARD
BEGIN:DAYLIGHT
TZOFFSETFROM:-0600
TZOFFSETTO:-0500
TZNAME:CDT
DTSTART:20250309T080000
END:DAYLIGHT
BEGIN:STANDARD
TZOFFSETFROM:-0500
TZOFFSETTO:-0600
TZNAME:CST
DTSTART:20251102T070000
END:STANDARD
BEGIN:DAYLIGHT
TZOFFSETFROM:-0600
TZOFFSETTO:-0500
TZNAME:CDT
DTSTART:20260308T080000
END:DAYLIGHT
BEGIN:STANDARD
TZOFFSETFROM:-0500
TZOFFSETTO:-0600
TZNAME:CST
DTSTART:20261101T070000
END:STANDARD
END:VTIMEZONE
BEGIN:VEVENT
DTSTART;TZID=America/Chicago:20250611T190000
DTEND;TZID=America/Chicago:20250611T200000
DTSTAMP:20260424T031944
CREATED:20250129T021355Z
LAST-MODIFIED:20250129T021355Z
UID:11521-1749668400-1749672000@100ruralwomen.org
SUMMARY:Book Club
DESCRIPTION:Connect with other readers! Discuss the book\, ask questions\, and share your thoughts with people who are also reading!
URL:https://100ruralwomen.org/event/book-club-8/
CATEGORIES:Book Club
ATTACH;FMTTYPE=image/png:https://100ruralwomen.org/wp-content/uploads/2022/06/4.png
END:VEVENT
BEGIN:VEVENT
DTSTART;TZID=America/Chicago:20250612T083000
DTEND;TZID=America/Chicago:20250612T090000
DTSTAMP:20260424T031944
CREATED:20250620T143422Z
LAST-MODIFIED:20250620T143422Z
UID:11884-1749717000-1749718800@100ruralwomen.org
SUMMARY:Morning Connections For Women
DESCRIPTION:Register for this Morning Connection! \nWelcome and good morning! If you’re looking for a space to take time for yourself to just connect with others\, we invite you to join us. These Morning Connections sessions will consist of light conversation in an undirected space via zoom. Bring beverages\, children\, breakfast\, pets\, or work – the goal is to connect informally with other women and a host who will facilitate. We look forward to networking with you! \n \nWe hope that you enjoy your time with us during Morning Connections. Want to find more ways to connect with other women? Visit our events page to register for meetings and webinars! \nAbout 100 Rural Women\n100 Rural Women sees a future where more rural women lead positive change for themselves\, their families and communities\, the nation and the world.  We are committed to building leadership through networks\, mentorship\, education and civic engagement. Our organization is non-profit and non-partisan.
URL:https://100ruralwomen.org/event/morning-connections-for-women-86/
LOCATION:Zoom
CATEGORIES:Morning Connections For Women
ATTACH;FMTTYPE=image/png:https://100ruralwomen.org/wp-content/uploads/2022/06/1.png
END:VEVENT
BEGIN:VEVENT
DTSTART;TZID=America/Chicago:20250612T120000
DTEND;TZID=America/Chicago:20250612T130000
DTSTAMP:20260424T031944
CREATED:20250528T222600Z
LAST-MODIFIED:20250528T223348Z
UID:11814-1749729600-1749733200@100ruralwomen.org
SUMMARY:Webinar: June 2025 - MN State Arts Board
DESCRIPTION:Minnesota State Arts Board Webinar \nGuiding the Impact of the Arts in Greater Minnesota \nHow are public dollars invested in the arts? How can you make sure rural voices are heard? Join us for a free informational webinar featuring the Minnesota State Arts Board. \nWhether you are an artist\, educator\, community leader\, or simply passionate about your community—you’ll learn how the Arts Board supports creative projects across the state\, how the grant process works\, and how everyday Minnesotans (with or without arts experience) can serve as grant advisors and help shape funding decisions. \nTaylor Erickson\, Advisor Recruitment Coordinator for the Minnesota State Arts Board\, will share how you can get involved\, support the arts in your community\, and help ensure all Minnesotans have access to meaningful arts experiences.
URL:https://100ruralwomen.org/event/webinar-june-2025-mn-state-arts-board/
CATEGORIES:Breakfast Club Webinar
ATTACH;FMTTYPE=image/png:https://100ruralwomen.org/wp-content/uploads/2020/05/Screen-Shot-2020-05-02-at-6.42.45-AM.png
END:VEVENT
BEGIN:VEVENT
DTSTART;TZID=America/Chicago:20250619T083000
DTEND;TZID=America/Chicago:20250619T090000
DTSTAMP:20260424T031944
CREATED:20250620T142747Z
LAST-MODIFIED:20250620T142747Z
UID:11864-1750321800-1750323600@100ruralwomen.org
SUMMARY:Morning Connections For Women
DESCRIPTION:Register for this Morning Connection! \nWelcome and good morning! If you’re looking for a space to take time for yourself to just connect with others\, we invite you to join us. These Morning Connections sessions will consist of light conversation in an undirected space via zoom. Bring beverages\, children\, breakfast\, pets\, or work – the goal is to connect informally with other women and a host who will facilitate. We look forward to networking with you! \n \nWe hope that you enjoy your time with us during Morning Connections. Want to find more ways to connect with other women? Visit our events page to register for meetings and webinars! \nAbout 100 Rural Women\n100 Rural Women sees a future where more rural women lead positive change for themselves\, their families and communities\, the nation and the world.  We are committed to building leadership through networks\, mentorship\, education and civic engagement. Our organization is non-profit and non-partisan.
URL:https://100ruralwomen.org/event/morning-connections-for-women-76/
LOCATION:Zoom
CATEGORIES:Morning Connections For Women
ATTACH;FMTTYPE=image/png:https://100ruralwomen.org/wp-content/uploads/2022/06/1.png
END:VEVENT
BEGIN:VEVENT
DTSTART;TZID=America/Chicago:20250626T083000
DTEND;TZID=America/Chicago:20250626T090000
DTSTAMP:20260424T031944
CREATED:20250620T142838Z
LAST-MODIFIED:20250620T142838Z
UID:11866-1750926600-1750928400@100ruralwomen.org
SUMMARY:Morning Connections For Women
DESCRIPTION:Register for this Morning Connection! \nWelcome and good morning! If you’re looking for a space to take time for yourself to just connect with others\, we invite you to join us. These Morning Connections sessions will consist of light conversation in an undirected space via zoom. Bring beverages\, children\, breakfast\, pets\, or work – the goal is to connect informally with other women and a host who will facilitate. We look forward to networking with you! \n \nWe hope that you enjoy your time with us during Morning Connections. Want to find more ways to connect with other women? Visit our events page to register for meetings and webinars! \nAbout 100 Rural Women\n100 Rural Women sees a future where more rural women lead positive change for themselves\, their families and communities\, the nation and the world.  We are committed to building leadership through networks\, mentorship\, education and civic engagement. Our organization is non-profit and non-partisan.
URL:https://100ruralwomen.org/event/morning-connections-for-women-77/
LOCATION:Zoom
CATEGORIES:Morning Connections For Women
ATTACH;FMTTYPE=image/png:https://100ruralwomen.org/wp-content/uploads/2022/06/1.png
END:VEVENT
END:VCALENDAR