BEGIN:VCALENDAR
VERSION:2.0
PRODID:-//100 Rural Women - ECPv6.15.20//NONSGML v1.0//EN
CALSCALE:GREGORIAN
METHOD:PUBLISH
X-WR-CALNAME:100 Rural Women
X-ORIGINAL-URL:https://100ruralwomen.org
X-WR-CALDESC:Events for 100 Rural Women
REFRESH-INTERVAL;VALUE=DURATION:PT1H
X-Robots-Tag:noindex
X-PUBLISHED-TTL:PT1H
BEGIN:VTIMEZONE
TZID:America/Chicago
BEGIN:DAYLIGHT
TZOFFSETFROM:-0600
TZOFFSETTO:-0500
TZNAME:CDT
DTSTART:20240310T080000
END:DAYLIGHT
BEGIN:STANDARD
TZOFFSETFROM:-0500
TZOFFSETTO:-0600
TZNAME:CST
DTSTART:20241103T070000
END:STANDARD
BEGIN:DAYLIGHT
TZOFFSETFROM:-0600
TZOFFSETTO:-0500
TZNAME:CDT
DTSTART:20250309T080000
END:DAYLIGHT
BEGIN:STANDARD
TZOFFSETFROM:-0500
TZOFFSETTO:-0600
TZNAME:CST
DTSTART:20251102T070000
END:STANDARD
BEGIN:DAYLIGHT
TZOFFSETFROM:-0600
TZOFFSETTO:-0500
TZNAME:CDT
DTSTART:20260308T080000
END:DAYLIGHT
BEGIN:STANDARD
TZOFFSETFROM:-0500
TZOFFSETTO:-0600
TZNAME:CST
DTSTART:20261101T070000
END:STANDARD
END:VTIMEZONE
BEGIN:VEVENT
DTSTART;TZID=America/Chicago:20250306T083000
DTEND;TZID=America/Chicago:20250306T090000
DTSTAMP:20260424T074543
CREATED:20250129T020115Z
LAST-MODIFIED:20250129T020115Z
UID:11493-1741249800-1741251600@100ruralwomen.org
SUMMARY:Morning Connections For Women
DESCRIPTION:Register for this Morning Connection! \nWelcome and good morning! If you’re looking for a space to take time for yourself to just connect with others\, we invite you to join us. These Morning Connections sessions will consist of light conversation in an undirected space via zoom. Bring beverages\, children\, breakfast\, pets\, or work – the goal is to connect informally with other women and a host who will facilitate. We look forward to networking with you! \n \nWe hope that you enjoy your time with us during Morning Connections. Want to find more ways to connect with other women? Visit our events page to register for meetings and webinars! \nAbout 100 Rural Women\n100 Rural Women sees a future where more rural women lead positive change for themselves\, their families and communities\, the nation and the world.  We are committed to building leadership through networks\, mentorship\, education and civic engagement. Our organization is non-profit and non-partisan.
URL:https://100ruralwomen.org/event/morning-connections-for-women-64/
LOCATION:Zoom
CATEGORIES:Morning Connections For Women
ATTACH;FMTTYPE=image/png:https://100ruralwomen.org/wp-content/uploads/2022/06/1.png
END:VEVENT
BEGIN:VEVENT
DTSTART;TZID=America/Chicago:20250312T190000
DTEND;TZID=America/Chicago:20250312T200000
DTSTAMP:20260424T074543
CREATED:20250129T015240Z
LAST-MODIFIED:20250129T015240Z
UID:11478-1741806000-1741809600@100ruralwomen.org
SUMMARY:Book Club
DESCRIPTION:Connect with other readers! Discuss the book\, ask questions\, and share your thoughts with people who are also reading!
URL:https://100ruralwomen.org/event/book-club-5/
CATEGORIES:Book Club
ATTACH;FMTTYPE=image/png:https://100ruralwomen.org/wp-content/uploads/2022/06/4.png
END:VEVENT
BEGIN:VEVENT
DTSTART;TZID=America/Chicago:20250313T083000
DTEND;TZID=America/Chicago:20250313T090000
DTSTAMP:20260424T074543
CREATED:20250129T020154Z
LAST-MODIFIED:20250129T020154Z
UID:11495-1741854600-1741856400@100ruralwomen.org
SUMMARY:Morning Connections For Women
DESCRIPTION:Register for this Morning Connection! \nWelcome and good morning! If you’re looking for a space to take time for yourself to just connect with others\, we invite you to join us. These Morning Connections sessions will consist of light conversation in an undirected space via zoom. Bring beverages\, children\, breakfast\, pets\, or work – the goal is to connect informally with other women and a host who will facilitate. We look forward to networking with you! \n \nWe hope that you enjoy your time with us during Morning Connections. Want to find more ways to connect with other women? Visit our events page to register for meetings and webinars! \nAbout 100 Rural Women\n100 Rural Women sees a future where more rural women lead positive change for themselves\, their families and communities\, the nation and the world.  We are committed to building leadership through networks\, mentorship\, education and civic engagement. Our organization is non-profit and non-partisan.
URL:https://100ruralwomen.org/event/morning-connections-for-women-65/
LOCATION:Zoom
CATEGORIES:Morning Connections For Women
ATTACH;FMTTYPE=image/png:https://100ruralwomen.org/wp-content/uploads/2022/06/1.png
END:VEVENT
BEGIN:VEVENT
DTSTART;TZID=America/Chicago:20250324T100000
DTEND;TZID=America/Chicago:20250324T233000
DTSTAMP:20260424T074543
CREATED:20250305T145841Z
LAST-MODIFIED:20250401T222541Z
UID:11628-1742810400-1742859000@100ruralwomen.org
SUMMARY:Rural Housing As We Age In Minnesota: Seizing Opportunities and Innovation
DESCRIPTION:Information from the webinar: LINK \ninteractive Webinar with informative experts to learn more about Rural Housing as we age in Minnesota. \nExplore challenges\, opportunities\, and innovative solutions for addressing the housing needs for us as we age in rural communities. Fostering collaboration among stakeholders to promote safe\, affordable\, and accessible living environments. \n  \nHousing Webinar
URL:https://100ruralwomen.org/event/rural-housing-as-we-age-in-minnesota-seizing-opportunities-and-innovation/
CATEGORIES:Breakfast Club Webinar
ATTACH;FMTTYPE=image/png:https://100ruralwomen.org/wp-content/uploads/2025/03/rural-women-breakfast-club.png
END:VEVENT
BEGIN:VEVENT
DTSTART;TZID=America/Chicago:20250327T083000
DTEND;TZID=America/Chicago:20250327T090000
DTSTAMP:20260424T074543
CREATED:20250129T020240Z
LAST-MODIFIED:20250129T020323Z
UID:11497-1743064200-1743066000@100ruralwomen.org
SUMMARY:Morning Connections For Women
DESCRIPTION:Register for this Morning Connection! \nWelcome and good morning! If you’re looking for a space to take time for yourself to just connect with others\, we invite you to join us. These Morning Connections sessions will consist of light conversation in an undirected space via zoom. Bring beverages\, children\, breakfast\, pets\, or work – the goal is to connect informally with other women and a host who will facilitate. We look forward to networking with you! \n \nWe hope that you enjoy your time with us during Morning Connections. Want to find more ways to connect with other women? Visit our events page to register for meetings and webinars! \nAbout 100 Rural Women\n100 Rural Women sees a future where more rural women lead positive change for themselves\, their families and communities\, the nation and the world.  We are committed to building leadership through networks\, mentorship\, education and civic engagement. Our organization is non-profit and non-partisan.
URL:https://100ruralwomen.org/event/morning-connections-for-women-66/
LOCATION:Zoom
CATEGORIES:Morning Connections For Women
ATTACH;FMTTYPE=image/png:https://100ruralwomen.org/wp-content/uploads/2022/06/1.png
END:VEVENT
END:VCALENDAR