BEGIN:VCALENDAR
VERSION:2.0
PRODID:-//100 Rural Women - ECPv6.15.20//NONSGML v1.0//EN
CALSCALE:GREGORIAN
METHOD:PUBLISH
X-ORIGINAL-URL:https://100ruralwomen.org
X-WR-CALDESC:Events for 100 Rural Women
REFRESH-INTERVAL;VALUE=DURATION:PT1H
X-Robots-Tag:noindex
X-PUBLISHED-TTL:PT1H
BEGIN:VTIMEZONE
TZID:America/Chicago
BEGIN:DAYLIGHT
TZOFFSETFROM:-0600
TZOFFSETTO:-0500
TZNAME:CDT
DTSTART:20230312T080000
END:DAYLIGHT
BEGIN:STANDARD
TZOFFSETFROM:-0500
TZOFFSETTO:-0600
TZNAME:CST
DTSTART:20231105T070000
END:STANDARD
BEGIN:DAYLIGHT
TZOFFSETFROM:-0600
TZOFFSETTO:-0500
TZNAME:CDT
DTSTART:20240310T080000
END:DAYLIGHT
BEGIN:STANDARD
TZOFFSETFROM:-0500
TZOFFSETTO:-0600
TZNAME:CST
DTSTART:20241103T070000
END:STANDARD
BEGIN:DAYLIGHT
TZOFFSETFROM:-0600
TZOFFSETTO:-0500
TZNAME:CDT
DTSTART:20250309T080000
END:DAYLIGHT
BEGIN:STANDARD
TZOFFSETFROM:-0500
TZOFFSETTO:-0600
TZNAME:CST
DTSTART:20251102T070000
END:STANDARD
END:VTIMEZONE
BEGIN:VEVENT
DTSTART;TZID=America/Chicago:20240502T083000
DTEND;TZID=America/Chicago:20240502T090000
DTSTAMP:20260424T223148
CREATED:20240128T235608Z
LAST-MODIFIED:20240128T235608Z
UID:9753-1714638600-1714640400@100ruralwomen.org
SUMMARY:Morning Connections For Women
DESCRIPTION:Register for this Morning Connection! \nWelcome and good morning! If you’re looking for a space to take time for yourself to just connect with others\, we invite you to join us. These Morning Connections sessions will consist of light conversation in an undirected space via zoom. Bring beverages\, children\, breakfast\, pets\, or work – the goal is to connect informally with other women and a host who will facilitate. We look forward to networking with you! \n \nWe hope that you enjoy your time with us during Morning Connections. Want to find more ways to connect with other women? Visit our events page to register for meetings and webinars! \nAbout 100 Rural Women\n100 Rural Women sees a future where more rural women lead positive change for themselves\, their families and communities\, the nation and the world.  We are committed to building leadership through networks\, mentorship\, education and civic engagement. Our organization is non-profit and non-partisan.
URL:https://100ruralwomen.org/event/morning-connections-for-women-26/
LOCATION:Zoom
CATEGORIES:Morning Connections For Women
ATTACH;FMTTYPE=image/png:https://100ruralwomen.org/wp-content/uploads/2022/06/1.png
END:VEVENT
BEGIN:VEVENT
DTSTART;TZID=America/Chicago:20240509T083000
DTEND;TZID=America/Chicago:20240509T090000
DTSTAMP:20260424T223148
CREATED:20240202T151558Z
LAST-MODIFIED:20240202T151558Z
UID:9757-1715243400-1715245200@100ruralwomen.org
SUMMARY:Morning Connections For Women
DESCRIPTION:Register for this Morning Connection! \nWelcome and good morning! If you’re looking for a space to take time for yourself to just connect with others\, we invite you to join us. These Morning Connections sessions will consist of light conversation in an undirected space via zoom. Bring beverages\, children\, breakfast\, pets\, or work – the goal is to connect informally with other women and a host who will facilitate. We look forward to networking with you! \n \nWe hope that you enjoy your time with us during Morning Connections. Want to find more ways to connect with other women? Visit our events page to register for meetings and webinars! \nAbout 100 Rural Women\n100 Rural Women sees a future where more rural women lead positive change for themselves\, their families and communities\, the nation and the world.  We are committed to building leadership through networks\, mentorship\, education and civic engagement. Our organization is non-profit and non-partisan.
URL:https://100ruralwomen.org/event/morning-connections-for-women-27/
LOCATION:Zoom
CATEGORIES:Morning Connections For Women
ATTACH;FMTTYPE=image/png:https://100ruralwomen.org/wp-content/uploads/2022/06/1.png
END:VEVENT
BEGIN:VEVENT
DTSTART;TZID=America/Chicago:20240515T120000
DTEND;TZID=America/Chicago:20240515T130000
DTSTAMP:20260424T223148
CREATED:20240501T184636Z
LAST-MODIFIED:20240501T185650Z
UID:10603-1715774400-1715778000@100ruralwomen.org
SUMMARY:Rooted in The Future: Short Film Screening and Discussion with Dovetail Partners
DESCRIPTION:Join us on Wednesday\, May 15th\, from 12:00- 1:00 PM CST \nRegister here!  \n100 Rural Women is co-hosting a virtual event with Dovetail in support of their recently released video\, Rooted in the Future. This video was developed in collaboration with many partners\, including SFI\, to support the importance of landowner action around forest health and wildfire resiliency in Minnesota. \nDovetail Partners is a 501(c)(3) nonprofit corporation providing authoritative information about the impacts and trade-offs of environmental management\, including consumption of choices\, land use decisions\, and policy alternatives. Dovetail provides a highly skilled team that fosters sustainability and responsible behaviors through collaboration to develop unique concepts\, systems\, models\, and programs. Dovetail also serves as the Fire Adapted Communities hub coordinator for the Upper Midwest and is involved in assisting with community-driven wildfire reduction efforts in the region. \nLearn more here!
URL:https://100ruralwomen.org/event/rooted-in-the-future-short-film-screening-and-discussion-with-dovetail-partners/
LOCATION:Zoom
CATEGORIES:Training,Webinar
ATTACH;FMTTYPE=image/jpeg:https://100ruralwomen.org/wp-content/uploads/2024/04/styggkarret-433688_1280-e1714589608801.jpg
END:VEVENT
BEGIN:VEVENT
DTSTART;TZID=America/Chicago:20240516T083000
DTEND;TZID=America/Chicago:20240516T090000
DTSTAMP:20260424T223148
CREATED:20240202T151624Z
LAST-MODIFIED:20240202T151624Z
UID:9759-1715848200-1715850000@100ruralwomen.org
SUMMARY:Morning Connections For Women
DESCRIPTION:Register for this Morning Connection! \nWelcome and good morning! If you’re looking for a space to take time for yourself to just connect with others\, we invite you to join us. These Morning Connections sessions will consist of light conversation in an undirected space via zoom. Bring beverages\, children\, breakfast\, pets\, or work – the goal is to connect informally with other women and a host who will facilitate. We look forward to networking with you! \n \nWe hope that you enjoy your time with us during Morning Connections. Want to find more ways to connect with other women? Visit our events page to register for meetings and webinars! \nAbout 100 Rural Women\n100 Rural Women sees a future where more rural women lead positive change for themselves\, their families and communities\, the nation and the world.  We are committed to building leadership through networks\, mentorship\, education and civic engagement. Our organization is non-profit and non-partisan.
URL:https://100ruralwomen.org/event/morning-connections-for-women-28/
LOCATION:Zoom
CATEGORIES:Morning Connections For Women
ATTACH;FMTTYPE=image/png:https://100ruralwomen.org/wp-content/uploads/2022/06/1.png
END:VEVENT
BEGIN:VEVENT
DTSTART;TZID=America/Chicago:20240523T083000
DTEND;TZID=America/Chicago:20240523T090000
DTSTAMP:20260424T223148
CREATED:20240202T151650Z
LAST-MODIFIED:20240202T151650Z
UID:9761-1716453000-1716454800@100ruralwomen.org
SUMMARY:Morning Connections For Women
DESCRIPTION:Register for this Morning Connection! \nWelcome and good morning! If you’re looking for a space to take time for yourself to just connect with others\, we invite you to join us. These Morning Connections sessions will consist of light conversation in an undirected space via zoom. Bring beverages\, children\, breakfast\, pets\, or work – the goal is to connect informally with other women and a host who will facilitate. We look forward to networking with you! \n \nWe hope that you enjoy your time with us during Morning Connections. Want to find more ways to connect with other women? Visit our events page to register for meetings and webinars! \nAbout 100 Rural Women\n100 Rural Women sees a future where more rural women lead positive change for themselves\, their families and communities\, the nation and the world.  We are committed to building leadership through networks\, mentorship\, education and civic engagement. Our organization is non-profit and non-partisan.
URL:https://100ruralwomen.org/event/morning-connections-for-women-29/
LOCATION:Zoom
CATEGORIES:Morning Connections For Women
ATTACH;FMTTYPE=image/png:https://100ruralwomen.org/wp-content/uploads/2022/06/1.png
END:VEVENT
BEGIN:VEVENT
DTSTART;TZID=America/Chicago:20240530T083000
DTEND;TZID=America/Chicago:20240530T090000
DTSTAMP:20260424T223148
CREATED:20240202T151723Z
LAST-MODIFIED:20240202T151723Z
UID:9763-1717057800-1717059600@100ruralwomen.org
SUMMARY:Morning Connections For Women
DESCRIPTION:Register for this Morning Connection! \nWelcome and good morning! If you’re looking for a space to take time for yourself to just connect with others\, we invite you to join us. These Morning Connections sessions will consist of light conversation in an undirected space via zoom. Bring beverages\, children\, breakfast\, pets\, or work – the goal is to connect informally with other women and a host who will facilitate. We look forward to networking with you! \n \nWe hope that you enjoy your time with us during Morning Connections. Want to find more ways to connect with other women? Visit our events page to register for meetings and webinars! \nAbout 100 Rural Women\n100 Rural Women sees a future where more rural women lead positive change for themselves\, their families and communities\, the nation and the world.  We are committed to building leadership through networks\, mentorship\, education and civic engagement. Our organization is non-profit and non-partisan.
URL:https://100ruralwomen.org/event/morning-connections-for-women-30/
LOCATION:Zoom
CATEGORIES:Morning Connections For Women
ATTACH;FMTTYPE=image/png:https://100ruralwomen.org/wp-content/uploads/2022/06/1.png
END:VEVENT
END:VCALENDAR