BEGIN:VCALENDAR
VERSION:2.0
PRODID:-//100 Rural Women - ECPv6.15.20//NONSGML v1.0//EN
CALSCALE:GREGORIAN
METHOD:PUBLISH
X-WR-CALNAME:100 Rural Women
X-ORIGINAL-URL:https://100ruralwomen.org
X-WR-CALDESC:Events for 100 Rural Women
REFRESH-INTERVAL;VALUE=DURATION:PT1H
X-Robots-Tag:noindex
X-PUBLISHED-TTL:PT1H
BEGIN:VTIMEZONE
TZID:America/Chicago
BEGIN:DAYLIGHT
TZOFFSETFROM:-0600
TZOFFSETTO:-0500
TZNAME:CDT
DTSTART:20220313T080000
END:DAYLIGHT
BEGIN:STANDARD
TZOFFSETFROM:-0500
TZOFFSETTO:-0600
TZNAME:CST
DTSTART:20221106T070000
END:STANDARD
BEGIN:DAYLIGHT
TZOFFSETFROM:-0600
TZOFFSETTO:-0500
TZNAME:CDT
DTSTART:20230312T080000
END:DAYLIGHT
BEGIN:STANDARD
TZOFFSETFROM:-0500
TZOFFSETTO:-0600
TZNAME:CST
DTSTART:20231105T070000
END:STANDARD
BEGIN:DAYLIGHT
TZOFFSETFROM:-0600
TZOFFSETTO:-0500
TZNAME:CDT
DTSTART:20240310T080000
END:DAYLIGHT
BEGIN:STANDARD
TZOFFSETFROM:-0500
TZOFFSETTO:-0600
TZNAME:CST
DTSTART:20241103T070000
END:STANDARD
END:VTIMEZONE
BEGIN:VEVENT
DTSTART;TZID=America/Chicago:20231102T083000
DTEND;TZID=America/Chicago:20231102T083000
DTSTAMP:20260425T113441
CREATED:20231006T144648Z
LAST-MODIFIED:20231006T144648Z
UID:9101-1698913800-1698913800@100ruralwomen.org
SUMMARY:Morning Connections For Women
DESCRIPTION:Register for this Morning Connection! \nWelcome and good morning! If you’re looking for a space to take time for yourself to just connect with others\, we invite you to join us. These Morning Connections sessions will consist of light conversation in an undirected space via zoom. Bring beverages\, children\, breakfast\, pets\, or work – the goal is to connect informally with other women and a host who will facilitate. We look forward to networking with you! \n \nWe hope that you enjoy your time with us during Morning Connections. Want to find more ways to connect with other women? Visit our events page to register for meetings and webinars! \nAbout 100 Rural Women\n100 Rural Women sees a future where more rural women lead positive change for themselves\, their families and communities\, the nation and the world.  We are committed to building leadership through networks\, mentorship\, education and civic engagement. Our organization is non-profit and non-partisan.
URL:https://100ruralwomen.org/event/morning-connections-for-women-4/
LOCATION:Zoom
CATEGORIES:Morning Connections For Women
ATTACH;FMTTYPE=image/png:https://100ruralwomen.org/wp-content/uploads/2022/06/1.png
END:VEVENT
BEGIN:VEVENT
DTSTART;TZID=America/Chicago:20231109T083000
DTEND;TZID=America/Chicago:20231109T083000
DTSTAMP:20260425T113441
CREATED:20231006T144742Z
LAST-MODIFIED:20231006T144742Z
UID:9103-1699518600-1699518600@100ruralwomen.org
SUMMARY:Morning Connections For Women
DESCRIPTION:Register for this Morning Connection! \nWelcome and good morning! If you’re looking for a space to take time for yourself to just connect with others\, we invite you to join us. These Morning Connections sessions will consist of light conversation in an undirected space via zoom. Bring beverages\, children\, breakfast\, pets\, or work – the goal is to connect informally with other women and a host who will facilitate. We look forward to networking with you! \n \nWe hope that you enjoy your time with us during Morning Connections. Want to find more ways to connect with other women? Visit our events page to register for meetings and webinars! \nAbout 100 Rural Women\n100 Rural Women sees a future where more rural women lead positive change for themselves\, their families and communities\, the nation and the world.  We are committed to building leadership through networks\, mentorship\, education and civic engagement. Our organization is non-profit and non-partisan.
URL:https://100ruralwomen.org/event/morning-connections-for-women-5/
LOCATION:Zoom
CATEGORIES:Morning Connections For Women
ATTACH;FMTTYPE=image/png:https://100ruralwomen.org/wp-content/uploads/2022/06/1.png
END:VEVENT
BEGIN:VEVENT
DTSTART;TZID=America/Chicago:20231114T180000
DTEND;TZID=America/Chicago:20231114T190000
DTSTAMP:20260425T113441
CREATED:20231031T212144Z
LAST-MODIFIED:20231031T212144Z
UID:9356-1699984800-1699988400@100ruralwomen.org
SUMMARY:Webinar: The Civic Mentorship Network Pilot Project Findings
DESCRIPTION:Register HERE \nThis past summer 100 Rural Women conducted the Civic Mentorship Network Pilot Project. \nThe Civic Mentorship Network Pilot Project was comprised of rural civic leaders who served as mentors for new women pursuing public service and leadership positions. This network provided a coordinated method for aspiring leaders to make person-to-person connections that give access to resources that are valuable to enduring success. At 100 Rural Women\, we find that success in engaging and mentoring more rural women to serve in public service leadership roles is essential to keeping our democracy strong.  \nOur graduate student Jasmine Terry and intern Alexis Lhotka will take us through the project\, the findings\, and what we hope to do with it! \nMore Info here \nWe are excited to see you on November 14th at 6 pm CST!
URL:https://100ruralwomen.org/event/webinar-the-civic-mentorship-network-pilot-project-findings/
CATEGORIES:Breakfast Club Webinar
ATTACH;FMTTYPE=image/png:https://100ruralwomen.org/wp-content/uploads/2020/05/rural-women-breakfast-club.png
END:VEVENT
BEGIN:VEVENT
DTSTART;TZID=America/Chicago:20231115T080000
DTEND;TZID=America/Chicago:20231115T093000
DTSTAMP:20260425T113441
CREATED:20231107T190109Z
LAST-MODIFIED:20231107T190109Z
UID:9488-1700035200-1700040600@100ruralwomen.org
SUMMARY:Webinar: Clearing the Air: the Dual Toll of Vaping on Mind and Body
DESCRIPTION:Register HERE \nVaping\, originally introduced as a cessation device\, has quickly become an epidemic in our nation. With more and more people entering hospitals due to vaping injuries\, the true intention behind its use has been called into question. Health professionals far and wide are noticing negative impacts not only on people’s physical health but mental health as well. Speakers Pat Mckone and Erin Simmons feel passionately about vaping education. They’ll unveil the hidden costs of vaping as they present and answer questions. \nThis is one of a 3-part vaping informational series co-hosted by 100 Rural Women and the American Lung Association. Part one\, held in March of this year\, focused on general information about vaping and how it is affecting our rural communities. Part two is centered around the physical and mental health impacts professionals are seeing as a result of long-term vape use. Part three\, to be held in December\, will highlight people and organizations doing important work in the movement to end vaping. \nJoin us on Wednesday\, November 15 at 8 a.m. CST as we unpack how these devices are impacting you and the people around you.
URL:https://100ruralwomen.org/event/webinar-clearing-the-air-the-dual-toll-of-vaping-on-mind-and-body/
CATEGORIES:Breakfast Club Webinar
ATTACH;FMTTYPE=image/png:https://100ruralwomen.org/wp-content/uploads/2020/05/rural-women-breakfast-club.png
END:VEVENT
BEGIN:VEVENT
DTSTART;TZID=America/Chicago:20231116T083000
DTEND;TZID=America/Chicago:20231116T083000
DTSTAMP:20260425T113441
CREATED:20231006T144821Z
LAST-MODIFIED:20231006T144821Z
UID:9105-1700123400-1700123400@100ruralwomen.org
SUMMARY:Morning Connections For Women
DESCRIPTION:Register for this Morning Connection! \nWelcome and good morning! If you’re looking for a space to take time for yourself to just connect with others\, we invite you to join us. These Morning Connections sessions will consist of light conversation in an undirected space via zoom. Bring beverages\, children\, breakfast\, pets\, or work – the goal is to connect informally with other women and a host who will facilitate. We look forward to networking with you! \n \nWe hope that you enjoy your time with us during Morning Connections. Want to find more ways to connect with other women? Visit our events page to register for meetings and webinars! \nAbout 100 Rural Women\n100 Rural Women sees a future where more rural women lead positive change for themselves\, their families and communities\, the nation and the world.  We are committed to building leadership through networks\, mentorship\, education and civic engagement. Our organization is non-profit and non-partisan.
URL:https://100ruralwomen.org/event/morning-connections-for-women-6/
LOCATION:Zoom
CATEGORIES:Morning Connections For Women
ATTACH;FMTTYPE=image/png:https://100ruralwomen.org/wp-content/uploads/2022/06/1.png
END:VEVENT
BEGIN:VEVENT
DTSTART;TZID=America/Chicago:20231123T083000
DTEND;TZID=America/Chicago:20231123T083000
DTSTAMP:20260425T113441
CREATED:20231006T144841Z
LAST-MODIFIED:20231006T144841Z
UID:9107-1700728200-1700728200@100ruralwomen.org
SUMMARY:Morning Connections For Women
DESCRIPTION:Register for this Morning Connection! \nWelcome and good morning! If you’re looking for a space to take time for yourself to just connect with others\, we invite you to join us. These Morning Connections sessions will consist of light conversation in an undirected space via zoom. Bring beverages\, children\, breakfast\, pets\, or work – the goal is to connect informally with other women and a host who will facilitate. We look forward to networking with you! \n \nWe hope that you enjoy your time with us during Morning Connections. Want to find more ways to connect with other women? Visit our events page to register for meetings and webinars! \nAbout 100 Rural Women\n100 Rural Women sees a future where more rural women lead positive change for themselves\, their families and communities\, the nation and the world.  We are committed to building leadership through networks\, mentorship\, education and civic engagement. Our organization is non-profit and non-partisan.
URL:https://100ruralwomen.org/event/morning-connections-for-women-7/
LOCATION:Zoom
CATEGORIES:Morning Connections For Women
ATTACH;FMTTYPE=image/png:https://100ruralwomen.org/wp-content/uploads/2022/06/1.png
END:VEVENT
BEGIN:VEVENT
DTSTART;TZID=America/Chicago:20231130T083000
DTEND;TZID=America/Chicago:20231130T083000
DTSTAMP:20260425T113441
CREATED:20231006T144907Z
LAST-MODIFIED:20231006T144907Z
UID:9109-1701333000-1701333000@100ruralwomen.org
SUMMARY:Morning Connections For Women
DESCRIPTION:Register for this Morning Connection! \nWelcome and good morning! If you’re looking for a space to take time for yourself to just connect with others\, we invite you to join us. These Morning Connections sessions will consist of light conversation in an undirected space via zoom. Bring beverages\, children\, breakfast\, pets\, or work – the goal is to connect informally with other women and a host who will facilitate. We look forward to networking with you! \n \nWe hope that you enjoy your time with us during Morning Connections. Want to find more ways to connect with other women? Visit our events page to register for meetings and webinars! \nAbout 100 Rural Women\n100 Rural Women sees a future where more rural women lead positive change for themselves\, their families and communities\, the nation and the world.  We are committed to building leadership through networks\, mentorship\, education and civic engagement. Our organization is non-profit and non-partisan.
URL:https://100ruralwomen.org/event/morning-connections-for-women-8/
LOCATION:Zoom
CATEGORIES:Morning Connections For Women
ATTACH;FMTTYPE=image/png:https://100ruralwomen.org/wp-content/uploads/2022/06/1.png
END:VEVENT
END:VCALENDAR