BEGIN:VCALENDAR
VERSION:2.0
PRODID:-//100 Rural Women - ECPv6.15.20//NONSGML v1.0//EN
CALSCALE:GREGORIAN
METHOD:PUBLISH
X-WR-CALNAME:100 Rural Women
X-ORIGINAL-URL:https://100ruralwomen.org
X-WR-CALDESC:Events for 100 Rural Women
REFRESH-INTERVAL;VALUE=DURATION:PT1H
X-Robots-Tag:noindex
X-PUBLISHED-TTL:PT1H
BEGIN:VTIMEZONE
TZID:America/Chicago
BEGIN:DAYLIGHT
TZOFFSETFROM:-0600
TZOFFSETTO:-0500
TZNAME:CDT
DTSTART:20220313T080000
END:DAYLIGHT
BEGIN:STANDARD
TZOFFSETFROM:-0500
TZOFFSETTO:-0600
TZNAME:CST
DTSTART:20221106T070000
END:STANDARD
BEGIN:DAYLIGHT
TZOFFSETFROM:-0600
TZOFFSETTO:-0500
TZNAME:CDT
DTSTART:20230312T080000
END:DAYLIGHT
BEGIN:STANDARD
TZOFFSETFROM:-0500
TZOFFSETTO:-0600
TZNAME:CST
DTSTART:20231105T070000
END:STANDARD
BEGIN:DAYLIGHT
TZOFFSETFROM:-0600
TZOFFSETTO:-0500
TZNAME:CDT
DTSTART:20240310T080000
END:DAYLIGHT
BEGIN:STANDARD
TZOFFSETFROM:-0500
TZOFFSETTO:-0600
TZNAME:CST
DTSTART:20241103T070000
END:STANDARD
END:VTIMEZONE
BEGIN:VEVENT
DTSTART;TZID=America/Chicago:20230601T083000
DTEND;TZID=America/Chicago:20230601T083000
DTSTAMP:20260425T182328
CREATED:20230511T054404Z
LAST-MODIFIED:20230511T054404Z
UID:8190-1685608200-1685608200@100ruralwomen.org
SUMMARY:Morning Connections
DESCRIPTION:Register for this Morning Connection! \nWelcome and good morning! If you’re looking for a space to take time for yourself to just connect with others\, we invite you to join us. These Morning Connections sessions will consist of light conversation in an undirected space via zoom. Bring beverages\, children\, breakfast\, pets\, or work – the goal is to connect informally with each other and a host who will facilitate. We look forward to networking with you! \n \nWe hope that you enjoy your time with us during Morning Connections. Want to find more ways to connect with other women? Visit our events page to register for meetings and webinars! \nAbout 100 Rural Women\n100 Rural Women sees a future where more rural women lead positive change for themselves\, their families and communities\, the nation and the world.  We are committed to building leadership through networks\, mentorship\, education and civic engagement. Our organization is non-profit and non-partisan.
URL:https://100ruralwomen.org/event/morning-connections-36/
LOCATION:Zoom
CATEGORIES:Morning Connections For Women
ATTACH;FMTTYPE=image/png:https://100ruralwomen.org/wp-content/uploads/2022/06/1.png
END:VEVENT
BEGIN:VEVENT
DTSTART;TZID=America/Chicago:20230608T083000
DTEND;TZID=America/Chicago:20230608T083000
DTSTAMP:20260425T182328
CREATED:20230511T054448Z
LAST-MODIFIED:20230607T141534Z
UID:8192-1686213000-1686213000@100ruralwomen.org
SUMMARY:Morning Connections
DESCRIPTION:Register for this Morning Connection! \nWelcome and good morning! If you’re looking for a space to take time for yourself to just connect with others\, we invite you to join us. These Morning Connections sessions will consist of light conversation in an undirected space via zoom. Bring beverages\, children\, breakfast\, pets\, or work – the goal is to connect informally with each other and a host who will facilitate. We look forward to networking with you! \n \nWe hope that you enjoy your time with us during Morning Connections. Want to find more ways to connect with other women? Visit our events page to register for meetings and webinars! \nAbout 100 Rural Women\n100 Rural Women sees a future where more rural women lead positive change for themselves\, their families and communities\, the nation and the world.  We are committed to building leadership through networks\, mentorship\, education and civic engagement. Our organization is non-profit and non-partisan.
URL:https://100ruralwomen.org/event/morning-connections-37/
LOCATION:Zoom
CATEGORIES:Morning Connections For Women
ATTACH;FMTTYPE=image/png:https://100ruralwomen.org/wp-content/uploads/2022/06/1.png
END:VEVENT
BEGIN:VEVENT
DTSTART;TZID=America/Chicago:20230614T190000
DTEND;TZID=America/Chicago:20230614T200000
DTSTAMP:20260425T182328
CREATED:20230520T140618Z
LAST-MODIFIED:20230613T154542Z
UID:8441-1686769200-1686772800@100ruralwomen.org
SUMMARY:June Book Group: Windfall - The Prairie Woman Who Lost Her Way… By: Erika Bolstad
DESCRIPTION:Register HERE\nAt first\, Erika Bolstad knew only one thing about her great-grandmother\, Anna: she was a homesteader on the North Dakota prairies in the early 1900s before her husband committed her to an asylum under mysterious circumstances. As Erika’s mother was dying\, she revealed more. Their family still owned the mineral rights to Anna’s land―and oil companies were interested in the black gold beneath the prairies. Their family\, Erika learned\, could get rich thanks to the legacy of a woman nearly lost to history. \nMore about this book
URL:https://100ruralwomen.org/event/book-group-windfall-the-prairie-woman-who-lost-her-way-by-erika-bolstad/
CATEGORIES:Book Club
ATTACH;FMTTYPE=image/png:https://100ruralwomen.org/wp-content/uploads/2023/06/Screen-Shot-2023-06-13-at-7.10.11-AM.png
END:VEVENT
BEGIN:VEVENT
DTSTART;TZID=America/Chicago:20230615T083000
DTEND;TZID=America/Chicago:20230615T083000
DTSTAMP:20260425T182328
CREATED:20230511T054721Z
LAST-MODIFIED:20230511T054721Z
UID:8194-1686817800-1686817800@100ruralwomen.org
SUMMARY:Morning Connections
DESCRIPTION:Register for this Morning Connection! \nWelcome and good morning! If you’re looking for a space to take time for yourself to just connect with others\, we invite you to join us. These Morning Connections sessions will consist of light conversation in an undirected space via zoom. Bring beverages\, children\, breakfast\, pets\, or work – the goal is to connect informally with each other and a host who will facilitate. We look forward to networking with you! \n \nWe hope that you enjoy your time with us during Morning Connections. Want to find more ways to connect with other women? Visit our events page to register for meetings and webinars! \nAbout 100 Rural Women\n100 Rural Women sees a future where more rural women lead positive change for themselves\, their families and communities\, the nation and the world.  We are committed to building leadership through networks\, mentorship\, education and civic engagement. Our organization is non-profit and non-partisan.
URL:https://100ruralwomen.org/event/morning-connections-38/
LOCATION:Zoom
CATEGORIES:Morning Connections For Women
ATTACH;FMTTYPE=image/png:https://100ruralwomen.org/wp-content/uploads/2022/06/1.png
END:VEVENT
BEGIN:VEVENT
DTSTART;TZID=America/Chicago:20230622T083000
DTEND;TZID=America/Chicago:20230622T083000
DTSTAMP:20260425T182328
CREATED:20230511T054750Z
LAST-MODIFIED:20230511T054750Z
UID:8196-1687422600-1687422600@100ruralwomen.org
SUMMARY:Morning Connections
DESCRIPTION:Register for this Morning Connection! \nWelcome and good morning! If you’re looking for a space to take time for yourself to just connect with others\, we invite you to join us. These Morning Connections sessions will consist of light conversation in an undirected space via zoom. Bring beverages\, children\, breakfast\, pets\, or work – the goal is to connect informally with each other and a host who will facilitate. We look forward to networking with you! \n \nWe hope that you enjoy your time with us during Morning Connections. Want to find more ways to connect with other women? Visit our events page to register for meetings and webinars! \nAbout 100 Rural Women\n100 Rural Women sees a future where more rural women lead positive change for themselves\, their families and communities\, the nation and the world.  We are committed to building leadership through networks\, mentorship\, education and civic engagement. Our organization is non-profit and non-partisan.
URL:https://100ruralwomen.org/event/morning-connections-39/
LOCATION:Zoom
CATEGORIES:Morning Connections For Women
ATTACH;FMTTYPE=image/png:https://100ruralwomen.org/wp-content/uploads/2022/06/1.png
END:VEVENT
BEGIN:VEVENT
DTSTART;TZID=America/Chicago:20230629T083000
DTEND;TZID=America/Chicago:20230629T083000
DTSTAMP:20260425T182328
CREATED:20230511T054955Z
LAST-MODIFIED:20230511T055227Z
UID:8198-1688027400-1688027400@100ruralwomen.org
SUMMARY:Morning Connections
DESCRIPTION:Register for this Morning Connection! \nWelcome and good morning! If you’re looking for a space to take time for yourself to just connect with others\, we invite you to join us. These Morning Connections sessions will consist of light conversation in an undirected space via zoom. Bring beverages\, children\, breakfast\, pets\, or work – the goal is to connect informally with each other and a host who will facilitate. We look forward to networking with you! \n \nWe hope that you enjoy your time with us during Morning Connections. Want to find more ways to connect with other women? Visit our events page to register for meetings and webinars! \nAbout 100 Rural Women\n100 Rural Women sees a future where more rural women lead positive change for themselves\, their families and communities\, the nation and the world.  We are committed to building leadership through networks\, mentorship\, education and civic engagement. Our organization is non-profit and non-partisan.
URL:https://100ruralwomen.org/event/morning-connections-40/
LOCATION:Zoom
CATEGORIES:Morning Connections For Women
ATTACH;FMTTYPE=image/png:https://100ruralwomen.org/wp-content/uploads/2022/06/1.png
END:VEVENT
END:VCALENDAR