BEGIN:VCALENDAR
VERSION:2.0
PRODID:-//100 Rural Women - ECPv6.15.20//NONSGML v1.0//EN
CALSCALE:GREGORIAN
METHOD:PUBLISH
X-WR-CALNAME:100 Rural Women
X-ORIGINAL-URL:https://100ruralwomen.org
X-WR-CALDESC:Events for 100 Rural Women
REFRESH-INTERVAL;VALUE=DURATION:PT1H
X-Robots-Tag:noindex
X-PUBLISHED-TTL:PT1H
BEGIN:VTIMEZONE
TZID:America/Chicago
BEGIN:DAYLIGHT
TZOFFSETFROM:-0600
TZOFFSETTO:-0500
TZNAME:CDT
DTSTART:20230312T080000
END:DAYLIGHT
BEGIN:STANDARD
TZOFFSETFROM:-0500
TZOFFSETTO:-0600
TZNAME:CST
DTSTART:20231105T070000
END:STANDARD
BEGIN:DAYLIGHT
TZOFFSETFROM:-0600
TZOFFSETTO:-0500
TZNAME:CDT
DTSTART:20240310T080000
END:DAYLIGHT
BEGIN:STANDARD
TZOFFSETFROM:-0500
TZOFFSETTO:-0600
TZNAME:CST
DTSTART:20241103T070000
END:STANDARD
BEGIN:DAYLIGHT
TZOFFSETFROM:-0600
TZOFFSETTO:-0500
TZNAME:CDT
DTSTART:20250309T080000
END:DAYLIGHT
BEGIN:STANDARD
TZOFFSETFROM:-0500
TZOFFSETTO:-0600
TZNAME:CST
DTSTART:20251102T070000
END:STANDARD
END:VTIMEZONE
BEGIN:VEVENT
DTSTART;TZID=America/Chicago:20240515T120000
DTEND;TZID=America/Chicago:20240515T130000
DTSTAMP:20260423T205818
CREATED:20240501T184636Z
LAST-MODIFIED:20240501T185650Z
UID:10603-1715774400-1715778000@100ruralwomen.org
SUMMARY:Rooted in The Future: Short Film Screening and Discussion with Dovetail Partners
DESCRIPTION:Join us on Wednesday\, May 15th\, from 12:00- 1:00 PM CST \nRegister here!  \n100 Rural Women is co-hosting a virtual event with Dovetail in support of their recently released video\, Rooted in the Future. This video was developed in collaboration with many partners\, including SFI\, to support the importance of landowner action around forest health and wildfire resiliency in Minnesota. \nDovetail Partners is a 501(c)(3) nonprofit corporation providing authoritative information about the impacts and trade-offs of environmental management\, including consumption of choices\, land use decisions\, and policy alternatives. Dovetail provides a highly skilled team that fosters sustainability and responsible behaviors through collaboration to develop unique concepts\, systems\, models\, and programs. Dovetail also serves as the Fire Adapted Communities hub coordinator for the Upper Midwest and is involved in assisting with community-driven wildfire reduction efforts in the region. \nLearn more here!
URL:https://100ruralwomen.org/event/rooted-in-the-future-short-film-screening-and-discussion-with-dovetail-partners/
LOCATION:Zoom
CATEGORIES:Training,Webinar
ATTACH;FMTTYPE=image/jpeg:https://100ruralwomen.org/wp-content/uploads/2024/04/styggkarret-433688_1280-e1714589608801.jpg
END:VEVENT
BEGIN:VEVENT
DTSTART;TZID=America/Chicago:20240419T120000
DTEND;TZID=America/Chicago:20240419T130000
DTSTAMP:20260423T205818
CREATED:20240322T150551Z
LAST-MODIFIED:20240324T164251Z
UID:10275-1713528000-1713531600@100ruralwomen.org
SUMMARY:3 Top Challenges of Women Leaders and How to Overcome Them
DESCRIPTION:Join us on Friday April 19th from 12:00- 1:00 PM CST \nRegister here!  \nLearn to identify and overcome 3 top challenges.\nJoin Holistic Leadership Academy founders\, Terri and Lisa Allred\, to explore and overcome unique challenges in the workplace for women leaders through the lens of holistic leadership.\nA holistic leader is someone who embraces a comprehensive and integrated approach to leadership\, recognizing the interconnectedness of life and work.\nThey focus on nurturing professional growth and personal well-being\, creating a positive impact on individuals and the organization as a whole. Whether you’re an aspiring leader or an experienced executive\, the Holistic Leadership Academy offers transformative programs designed to empower you to become a visionary\, empathetic\, and influential leader and find your authentic self in the process.
URL:https://100ruralwomen.org/event/3-top-challenges-of-women-leaders-and-how-to-overcome-them/
LOCATION:Zoom
CATEGORIES:Training,Webinar
ATTACH;FMTTYPE=image/png:https://100ruralwomen.org/wp-content/uploads/2024/03/Screenshot-2024-03-22-at-10.03.39-AM.png
END:VEVENT
BEGIN:VEVENT
DTSTART;TZID=America/Chicago:20240326T150000
DTEND;TZID=America/Chicago:20240326T163000
DTSTAMP:20260423T205818
CREATED:20240320T195034Z
LAST-MODIFIED:20240322T150931Z
UID:10225-1711465200-1711470600@100ruralwomen.org
SUMMARY:QPR Question\, Persuade\, and Refer Training with Monica McConkey
DESCRIPTION:Join us on Tuesday\, March 26th from 3:00-4:30PM CST \nNo registration needed\, use the link to join us on Tuesday! \nQPR stands for Question\, Persuade\, and Refer — the 3 simple steps anyone can learn to help save a life from suicide. Just as people trained in CPR and the Heimlich Maneuver help save thousands of lives each year\, people trained in QPR learn how to recognize the warning signs of a suicide crisis and how to question\, persuade\, and refer someone to help. Each year thousands of Americans\, like you\, are saying “Yes” to saving the life of a friend\, colleague\, sibling\, or neighbor. The QPR mission is to reduce suicidal behaviors and save lives by providing innovative\, practical and proven suicide prevention training. The signs of crisis are all around us. We believe that quality education empowers all people\, regardless of their background\, to make a positive difference in the life of someone they know. \nMonica Kramer McConkey is a Licensed Professional Counselor who owns and operates a Mental Health Consulting business called Eyes on the Horizon Consulting. EOTHC specializes in mental health with an emphasis on agriculture producers. Monica joins us from just outside Detroit Lakes in Becker County. Monica is a mother to her three kids ages 20\, 21\, and 23. She is involved in this organization through webinars\, book club\, and focus groups.
URL:https://100ruralwomen.org/event/https-us02web-zoom-us-j-81984419396success/
LOCATION:Zoom
CATEGORIES:Training
ATTACH;FMTTYPE=image/jpeg:https://100ruralwomen.org/wp-content/uploads/2019/03/cropped-benjamin-davies-260884-unsplash.jpg
END:VEVENT
END:VCALENDAR