BEGIN:VCALENDAR
VERSION:2.0
PRODID:-//100 Rural Women - ECPv6.15.20//NONSGML v1.0//EN
CALSCALE:GREGORIAN
METHOD:PUBLISH
X-ORIGINAL-URL:https://100ruralwomen.org
X-WR-CALDESC:Events for 100 Rural Women
REFRESH-INTERVAL;VALUE=DURATION:PT1H
X-Robots-Tag:noindex
X-PUBLISHED-TTL:PT1H
BEGIN:VTIMEZONE
TZID:America/Chicago
BEGIN:DAYLIGHT
TZOFFSETFROM:-0600
TZOFFSETTO:-0500
TZNAME:CDT
DTSTART:20230312T080000
END:DAYLIGHT
BEGIN:STANDARD
TZOFFSETFROM:-0500
TZOFFSETTO:-0600
TZNAME:CST
DTSTART:20231105T070000
END:STANDARD
BEGIN:DAYLIGHT
TZOFFSETFROM:-0600
TZOFFSETTO:-0500
TZNAME:CDT
DTSTART:20240310T080000
END:DAYLIGHT
BEGIN:STANDARD
TZOFFSETFROM:-0500
TZOFFSETTO:-0600
TZNAME:CST
DTSTART:20241103T070000
END:STANDARD
BEGIN:DAYLIGHT
TZOFFSETFROM:-0600
TZOFFSETTO:-0500
TZNAME:CDT
DTSTART:20250309T080000
END:DAYLIGHT
BEGIN:STANDARD
TZOFFSETFROM:-0500
TZOFFSETTO:-0600
TZNAME:CST
DTSTART:20251102T070000
END:STANDARD
END:VTIMEZONE
BEGIN:VEVENT
DTSTART;TZID=America/Chicago:20240515T120000
DTEND;TZID=America/Chicago:20240515T130000
DTSTAMP:20260425T080159
CREATED:20240501T184636Z
LAST-MODIFIED:20240501T185650Z
UID:10603-1715774400-1715778000@100ruralwomen.org
SUMMARY:Rooted in The Future: Short Film Screening and Discussion with Dovetail Partners
DESCRIPTION:Join us on Wednesday\, May 15th\, from 12:00- 1:00 PM CST \nRegister here!  \n100 Rural Women is co-hosting a virtual event with Dovetail in support of their recently released video\, Rooted in the Future. This video was developed in collaboration with many partners\, including SFI\, to support the importance of landowner action around forest health and wildfire resiliency in Minnesota. \nDovetail Partners is a 501(c)(3) nonprofit corporation providing authoritative information about the impacts and trade-offs of environmental management\, including consumption of choices\, land use decisions\, and policy alternatives. Dovetail provides a highly skilled team that fosters sustainability and responsible behaviors through collaboration to develop unique concepts\, systems\, models\, and programs. Dovetail also serves as the Fire Adapted Communities hub coordinator for the Upper Midwest and is involved in assisting with community-driven wildfire reduction efforts in the region. \nLearn more here!
URL:https://100ruralwomen.org/event/rooted-in-the-future-short-film-screening-and-discussion-with-dovetail-partners/
LOCATION:Zoom
CATEGORIES:Training,Webinar
ATTACH;FMTTYPE=image/jpeg:https://100ruralwomen.org/wp-content/uploads/2024/04/styggkarret-433688_1280-e1714589608801.jpg
END:VEVENT
END:VCALENDAR