BEGIN:VCALENDAR
VERSION:2.0
PRODID:-//100 Rural Women - ECPv6.15.20//NONSGML v1.0//EN
CALSCALE:GREGORIAN
METHOD:PUBLISH
X-WR-CALNAME:100 Rural Women
X-ORIGINAL-URL:https://100ruralwomen.org
X-WR-CALDESC:Events for 100 Rural Women
REFRESH-INTERVAL;VALUE=DURATION:PT1H
X-Robots-Tag:noindex
X-PUBLISHED-TTL:PT1H
BEGIN:VTIMEZONE
TZID:America/Chicago
BEGIN:DAYLIGHT
TZOFFSETFROM:-0600
TZOFFSETTO:-0500
TZNAME:CDT
DTSTART:20220313T080000
END:DAYLIGHT
BEGIN:STANDARD
TZOFFSETFROM:-0500
TZOFFSETTO:-0600
TZNAME:CST
DTSTART:20221106T070000
END:STANDARD
BEGIN:DAYLIGHT
TZOFFSETFROM:-0600
TZOFFSETTO:-0500
TZNAME:CDT
DTSTART:20230312T080000
END:DAYLIGHT
BEGIN:STANDARD
TZOFFSETFROM:-0500
TZOFFSETTO:-0600
TZNAME:CST
DTSTART:20231105T070000
END:STANDARD
BEGIN:DAYLIGHT
TZOFFSETFROM:-0600
TZOFFSETTO:-0500
TZNAME:CDT
DTSTART:20240310T080000
END:DAYLIGHT
BEGIN:STANDARD
TZOFFSETFROM:-0500
TZOFFSETTO:-0600
TZNAME:CST
DTSTART:20241103T070000
END:STANDARD
END:VTIMEZONE
BEGIN:VEVENT
DTSTART;TZID=America/Chicago:20230520T130000
DTEND;TZID=America/Chicago:20230520T160000
DTSTAMP:20260424T011321
CREATED:20230502T011118Z
LAST-MODIFIED:20230520T201811Z
UID:8159-1684587600-1684598400@100ruralwomen.org
SUMMARY:Iron Range Civic Engagement Forum
DESCRIPTION:PPT Resources shared for Appointed Positions \nJoin local leaders to learn how to become more civically involved through boards\, commissions\, and even running for local office. \n  \n 
URL:https://100ruralwomen.org/event/iron-range-civic-engagement-forum/
LOCATION:Iron Trail Motors Event Center\, 916 6th Street South\, Virginia\, MN\, United States
CATEGORIES:CIVIC,Conference,Forum,In Person Meeting
ATTACH;FMTTYPE=image/png:https://100ruralwomen.org/wp-content/uploads/2023/05/PRINTER-FRIENDLY-May20-MN-Iron-Range-Civic-Engagement-KL.png
END:VEVENT
END:VCALENDAR