BEGIN:VCALENDAR
VERSION:2.0
PRODID:-//100 Rural Women - ECPv6.15.20//NONSGML v1.0//EN
CALSCALE:GREGORIAN
METHOD:PUBLISH
X-WR-CALNAME:100 Rural Women
X-ORIGINAL-URL:https://100ruralwomen.org
X-WR-CALDESC:Events for 100 Rural Women
REFRESH-INTERVAL;VALUE=DURATION:PT1H
X-Robots-Tag:noindex
X-PUBLISHED-TTL:PT1H
BEGIN:VTIMEZONE
TZID:America/Chicago
BEGIN:DAYLIGHT
TZOFFSETFROM:-0600
TZOFFSETTO:-0500
TZNAME:CDT
DTSTART:20210314T080000
END:DAYLIGHT
BEGIN:STANDARD
TZOFFSETFROM:-0500
TZOFFSETTO:-0600
TZNAME:CST
DTSTART:20211107T070000
END:STANDARD
BEGIN:DAYLIGHT
TZOFFSETFROM:-0600
TZOFFSETTO:-0500
TZNAME:CDT
DTSTART:20220313T080000
END:DAYLIGHT
BEGIN:STANDARD
TZOFFSETFROM:-0500
TZOFFSETTO:-0600
TZNAME:CST
DTSTART:20221106T070000
END:STANDARD
BEGIN:DAYLIGHT
TZOFFSETFROM:-0600
TZOFFSETTO:-0500
TZNAME:CDT
DTSTART:20230312T080000
END:DAYLIGHT
BEGIN:STANDARD
TZOFFSETFROM:-0500
TZOFFSETTO:-0600
TZNAME:CST
DTSTART:20231105T070000
END:STANDARD
BEGIN:DAYLIGHT
TZOFFSETFROM:-0600
TZOFFSETTO:-0500
TZNAME:CDT
DTSTART:20240310T080000
END:DAYLIGHT
BEGIN:STANDARD
TZOFFSETFROM:-0500
TZOFFSETTO:-0600
TZNAME:CST
DTSTART:20241103T070000
END:STANDARD
END:VTIMEZONE
BEGIN:VEVENT
DTSTART;TZID=America/Chicago:20230329T120000
DTEND;TZID=America/Chicago:20230329T130000
DTSTAMP:20260423T190522
CREATED:20230314T232048Z
LAST-MODIFIED:20230314T232124Z
UID:7999-1680091200-1680094800@100ruralwomen.org
SUMMARY:Webinar:  Women Tackling the impact of Tobacco and Vaping in our rural communities
DESCRIPTION:Join us for a discussion about Rural Health and Women leading the way around the issues of vaping and how it is impacting our young people and rural communities.  Learn more about the what e-cigarettes are\, the health impacts\, and about the work being done in addressing the vaping epidemic in communities and at the State Capitol.
URL:https://100ruralwomen.org/event/webinar-women-tackling-the-impact-of-tobacco-and-vaping-in-our-rural-communities/
LOCATION:Zoom
CATEGORIES:Breakfast Club Webinar,Webinar
ATTACH;FMTTYPE=image/jpeg:https://100ruralwomen.org/wp-content/uploads/2023/03/romain-blu-5m0qCjQOeaY-unsplash-scaled.jpg
END:VEVENT
BEGIN:VEVENT
DTSTART;TZID=America/Chicago:20230118T083000
DTEND;TZID=America/Chicago:20230118T093000
DTSTAMP:20260423T190522
CREATED:20221214T213047Z
LAST-MODIFIED:20221214T215904Z
UID:7802-1674030600-1674034200@100ruralwomen.org
SUMMARY:Project REACH: Health Policy & Leadership Training Webinar
DESCRIPTION:Register for this Webinar! \nProject REACH (Rural Experts Advancing Community Health) is a year-long health policy training for community leaders in rural Minnesota. In the program\, participants learn how to frame health policy challenges and communicate effectively with state legislators and other local policymakers. This webinar will describe the program model and curriculum\, as well as provide information on the application process. Two past Project REACH participants will also share about their policy work and experience in the program. \nParticipants will receive a presentation by Project REACH\, followed by a Q&A session. Learn more about our speakers Katie Rydberg\, Leah Lehtola\, and Ann Bussey. \nWe are so excited to learn with you! \nAbout 100 Rural Women\n100 Rural Women sees a future where more rural women lead positive change for themselves\, their families and communities\, the nation and the world.  We are committed to building leadership through networks\, mentorship\, education\, and civic engagement. Our organization is non-profit and non-partisan.
URL:https://100ruralwomen.org/event/project-reach-health-policy-leadership-training-webinar/
LOCATION:Zoom
CATEGORIES:Breakfast Club Webinar,Webinar
ATTACH;FMTTYPE=image/png:https://100ruralwomen.org/wp-content/uploads/2022/12/100RW_ZoomGraphics_ZoomBannerJan23Webinar.png
END:VEVENT
BEGIN:VEVENT
DTSTART;TZID=America/Chicago:20221027T083000
DTEND;TZID=America/Chicago:20221027T093000
DTSTAMP:20260423T190522
CREATED:20221019T214854Z
LAST-MODIFIED:20221019T214854Z
UID:7406-1666859400-1666863000@100ruralwomen.org
SUMMARY:Voter Education Webinar
DESCRIPTION:Register for this Voter Education Webinar! \nYour vote impacts the future of our democracy. Further\, the future of women’s roles in our democracy. Midterm elections are in a few weeks\, and we want to discuss why voting is so important. This webinar primarily focuses on first-time voters\, including college and high school students. Our speaker\, Charlotte Culbertson\, plans to expand on questions dealing with the electoral process and misconceptions people have about voting. Participants are provided with general information on 100 Rural Women as an organization\, general voting information\, and hosting a Q&A session with Charlotte. Learn more about Charlotte and her experiences here. \nWe are so excited to learn with you! \n \nAbout the Civic Mentorship Network\nThe Civic Mentorship Network is focused on mentorship. It consists of informal and formal women leaders who serve as mentors to other women. Specifically\, those who are seeking public service positions.  At 100 Rural Women\, we find that success in engaging and mentoring more rural women to serve in public service leadership roles is essential to keeping our democracy strong. \nAbout 100 Rural Women\n100 Rural Women sees a future where more rural women lead positive change for themselves\, their families and communities\, the nation and the world.  We are committed to building leadership through networks\, mentorship\, education\, and civic engagement. Our organization is non-profit and non-partisan.
URL:https://100ruralwomen.org/event/voter-education-webinar/
LOCATION:Zoom
CATEGORIES:Breakfast Club Webinar,Civic Mentorship Networks,Mentorship Networks
ATTACH;FMTTYPE=image/png:https://100ruralwomen.org/wp-content/uploads/2022/10/100RW-Zoom-Banner-Voter-Education.png
END:VEVENT
BEGIN:VEVENT
DTSTART;TZID=America/Chicago:20220608T083000
DTEND;TZID=America/Chicago:20220608T093000
DTSTAMP:20260423T190522
CREATED:20220606T213343Z
LAST-MODIFIED:20220606T214031Z
UID:6211-1654677000-1654680600@100ruralwomen.org
SUMMARY:Webinar: The Initiators Fellowship: A Unique Leadership Opportunity for Enterprising Women
DESCRIPTION:Join us for our Breakfast Club Webinar Series! At 100 Rural Women\, we believe it is more important than ever to lift up rural women leaders and their crucial work in their communities.  We do this by sharing resources\, networking\, and developing our leadership skills so we can continue to empower each other to do our best work. \nRegister for this Webinar
URL:https://100ruralwomen.org/event/webinar-the-initiators-fellowship-a-unique-leadership-opportunity-for-enterprising-women/
LOCATION:Zoom
CATEGORIES:Breakfast Club Webinar
ATTACH;FMTTYPE=image/png:https://100ruralwomen.org/wp-content/uploads/2020/05/rural-women-breakfast-club.png
END:VEVENT
BEGIN:VEVENT
DTSTART;TZID=America/Chicago:20220518T183000
DTEND;TZID=America/Chicago:20220518T193000
DTSTAMP:20260423T190522
CREATED:20220504T133527Z
LAST-MODIFIED:20220518T122704Z
UID:5958-1652898600-1652902200@100ruralwomen.org
SUMMARY:Reflections from the Polish-Ukrainian Border with Bernadine Joselyn
DESCRIPTION:We are excited to hear from Bernadine Joselyn who just spent three weeks at the Polish-Ukrainian border welcoming and processing evacuees fleeing Russia’s war with Ukraine. \n \nBernadine\, who is director of Public Policy and Engagement at Blandin Foundation\, lived and worked in Russia 20 years ago with the U.S. Foreign Service and other international development organizations\, and now lives in Grand Rapids\, MN with her Ukrainian husband. Bernadine heard about the opportunity to help and quickly found herself in the evacuee center at Korcwoza\, about 20 kilometers from the actual border; it was a huge wholesale warehouse space\, repurposed for the evacuees. Volunteers from all over the world had come to help. Some were organized with groups such as Red Cross of Doctors without Borders; some came without affiliation. With Ukrainian men between the ages of 16 and 60 forbidden from leaving the country\, the evacuees were overwhelmingly women and children. Some had left with nothing but the clothes on their back. \nBernadine’s mission was to make them safe\, meet their immediate needs (food\, clothing\, SIM cards) and to help them find a place to stay. Bernadine will tell us about the process\, the people and the politics as well as how we can help. You can learn more about her trip from her recent article in the Women’s Press.   \nResources: How to host Ukrainian refugees: US Department of Homeland Security.  dhs.gov/ukraine.   We Are Light- formerly American Refugee Committee\, based in MN is Coordinating humanitarian relief on the ground. Accepting donations. https://wearealight.org/  \nRegister for our Wednesday\, May 18 Webinar!\n 
URL:https://100ruralwomen.org/event/reflections-from-the-polish-ukrainian-border-with-bernadine-joselyn/
LOCATION:Zoom
CATEGORIES:Breakfast Club Webinar
ATTACH;FMTTYPE=image/jpeg:https://100ruralwomen.org/wp-content/uploads/2022/05/ukraine-heart-scaled-e1651671260656.jpg
END:VEVENT
BEGIN:VEVENT
DTSTART;TZID=America/Chicago:20220429T100000
DTEND;TZID=America/Chicago:20220429T110000
DTSTAMP:20260423T190522
CREATED:20220412T161033Z
LAST-MODIFIED:20220412T161335Z
UID:5692-1651226400-1651230000@100ruralwomen.org
SUMMARY:The Barriers\, Breakthroughs\, and Backbone of Elected Rural Women
DESCRIPTION:Join us for our next research findings webinar with University of Minnesota Humphrey School of Public Affairs students Naa Korkoi Larmie\, Delaney Stekr\, and Caitlyn Walker. They will present the results of their interviews with rural elected women about barriers and supports in one’s journey to elected office. \nWe invite you to join us exactly as you are for an empowering presentation about the struggles and successes experienced as a female elected official. Bring beverages\, children\, breakfast\, pets\, or work – we look forward to hosting you! \nRegister for our 4/29 Breakfast Club Webinar!
URL:https://100ruralwomen.org/event/april-2022-webinar/
LOCATION:Zoom
CATEGORIES:Breakfast Club Webinar
END:VEVENT
BEGIN:VEVENT
DTSTART;TZID=America/Chicago:20220216T083000
DTEND;TZID=America/Chicago:20220216T093000
DTSTAMP:20260423T190522
CREATED:20220214T213752Z
LAST-MODIFIED:20220215T150149Z
UID:5093-1645000200-1645003800@100ruralwomen.org
SUMMARY:Bootstrapping Equity for Food Access
DESCRIPTION:Many times\, the stories shared about Rural Women leading grassroots community initiatives are an understatement of the challenges faced in building a more equitable world. This session covers what it’s been like for Dani Pieratos\, an Indigenous female entrepreneur\, and her commitment to support the food sovereignty movement at the Bois Forte Band of Chippewa where she is a tribal member living on the Lake Vermilion Reservation in northeastern Minnesota. \nBootstrapping is a term for early businesses where owners commit their personal time and energy mostly out-of-pocket. As a low-income mother of two\, keeping pace with opportunity has been tough. Dani will share personal & professional anecdotes to highlight what many of us face in the fight for equity\, all from her focal point of localizing food systems to improve healthy food access. Her journey highlights moments of desperation\, surrender\, patience\, love\, trust and resourcefulness. Join us to hear an expressive\, personal testimony of the nonlinear changemaking process for the brighter futures we all seek. \nWe hope this session will mutually inspire Rural Women to ask for what is needed and ask for what is deserved for everyone and everything we are fighting for. \nRegister for our 2/16 Breakfast Club Webinar!
URL:https://100ruralwomen.org/event/bootstrapping-equity-for-food-access/
LOCATION:Zoom
CATEGORIES:Breakfast Club Webinar
ATTACH;FMTTYPE=image/jpeg:https://100ruralwomen.org/wp-content/uploads/2022/02/273754721_1817460061794311_739308872928091033_n.jpg
END:VEVENT
END:VCALENDAR