BEGIN:VCALENDAR
VERSION:2.0
PRODID:-//100 Rural Women - ECPv6.15.20//NONSGML v1.0//EN
CALSCALE:GREGORIAN
METHOD:PUBLISH
X-ORIGINAL-URL:https://100ruralwomen.org
X-WR-CALDESC:Events for 100 Rural Women
REFRESH-INTERVAL;VALUE=DURATION:PT1H
X-Robots-Tag:noindex
X-PUBLISHED-TTL:PT1H
BEGIN:VTIMEZONE
TZID:America/Chicago
BEGIN:DAYLIGHT
TZOFFSETFROM:-0600
TZOFFSETTO:-0500
TZNAME:CDT
DTSTART:20210314T080000
END:DAYLIGHT
BEGIN:STANDARD
TZOFFSETFROM:-0500
TZOFFSETTO:-0600
TZNAME:CST
DTSTART:20211107T070000
END:STANDARD
BEGIN:DAYLIGHT
TZOFFSETFROM:-0600
TZOFFSETTO:-0500
TZNAME:CDT
DTSTART:20220313T080000
END:DAYLIGHT
BEGIN:STANDARD
TZOFFSETFROM:-0500
TZOFFSETTO:-0600
TZNAME:CST
DTSTART:20221106T070000
END:STANDARD
BEGIN:DAYLIGHT
TZOFFSETFROM:-0600
TZOFFSETTO:-0500
TZNAME:CDT
DTSTART:20230312T080000
END:DAYLIGHT
BEGIN:STANDARD
TZOFFSETFROM:-0500
TZOFFSETTO:-0600
TZNAME:CST
DTSTART:20231105T070000
END:STANDARD
END:VTIMEZONE
BEGIN:VEVENT
DTSTART;TZID=America/Chicago:20220309T190000
DTEND;TZID=America/Chicago:20220309T200000
DTSTAMP:20260425T105559
CREATED:20220302T155755Z
LAST-MODIFIED:20220302T161101Z
UID:5168-1646852400-1646856000@100ruralwomen.org
SUMMARY:March Book Club - Nomadland
DESCRIPTION:This month\, we will be reading “Nomadland: Surviving America in the Twenty-First Century” by Jessica Bruder. \nRegister for our Book Club! \nBook synopsis\nFrom the beet fields of North Dakota to the National Forest campgrounds of California to Amazon’s CamperForce program in Texas\, employers have discovered a new\, low-cost labor pool\, made up largely of transient older Americans. Finding that Social Security comes up short\, often underwater on mortgages\, these invisible casualties of the Great Recession have taken to the road by the tens of thousands in late-model RVs\, travel trailers\, and vans\, forming a growing community of nomads: migrant laborers who call themselves “workampers.” \nIn a secondhand van she names “Halen\,” Jessica Bruder hits the road to get to know her subjects more intimately. Accompanying her irrepressible protagonist\, Linda May\, and others from campground toilet cleaning to warehouse product scanning to desert reunions\, then moving on to the dangerous work of beet harvesting\, Bruder tells a compelling\, eye-opening tale of the dark underbelly of the American economy—one that foreshadows the precarious future that may await many more of us. At the same time\, she celebrates the exceptional resilience and creativity of these quintessential Americans who have given up ordinary rootedness to survive. Like Linda May\, who dreams of finding land on which to build her own sustainable “Earthship” home\, they have not given up hope. \nResources\n\n    Author Interview\n  \n\n\n    Author website\n  \n\n\n    CSPAN Interview\n  \n\n\n    Q&A with Author\n  \n\n\n 
URL:https://100ruralwomen.org/event/nomadland-book-club/
LOCATION:Zoom
CATEGORIES:Book Club
ATTACH;FMTTYPE=image/png:https://100ruralwomen.org/wp-content/uploads/2022/02/Screen-Shot-2022-02-11-at-8.26.06-PM.png
END:VEVENT
END:VCALENDAR