BEGIN:VCALENDAR
VERSION:2.0
PRODID:-//100 Rural Women - ECPv6.15.20//NONSGML v1.0//EN
CALSCALE:GREGORIAN
METHOD:PUBLISH
X-WR-CALNAME:100 Rural Women
X-ORIGINAL-URL:https://100ruralwomen.org
X-WR-CALDESC:Events for 100 Rural Women
REFRESH-INTERVAL;VALUE=DURATION:PT1H
X-Robots-Tag:noindex
X-PUBLISHED-TTL:PT1H
BEGIN:VTIMEZONE
TZID:America/Chicago
BEGIN:DAYLIGHT
TZOFFSETFROM:-0600
TZOFFSETTO:-0500
TZNAME:CDT
DTSTART:20210314T080000
END:DAYLIGHT
BEGIN:STANDARD
TZOFFSETFROM:-0500
TZOFFSETTO:-0600
TZNAME:CST
DTSTART:20211107T070000
END:STANDARD
BEGIN:DAYLIGHT
TZOFFSETFROM:-0600
TZOFFSETTO:-0500
TZNAME:CDT
DTSTART:20220313T080000
END:DAYLIGHT
BEGIN:STANDARD
TZOFFSETFROM:-0500
TZOFFSETTO:-0600
TZNAME:CST
DTSTART:20221106T070000
END:STANDARD
BEGIN:DAYLIGHT
TZOFFSETFROM:-0600
TZOFFSETTO:-0500
TZNAME:CDT
DTSTART:20230312T080000
END:DAYLIGHT
BEGIN:STANDARD
TZOFFSETFROM:-0500
TZOFFSETTO:-0600
TZNAME:CST
DTSTART:20231105T070000
END:STANDARD
END:VTIMEZONE
BEGIN:VEVENT
DTSTART;TZID=America/Chicago:20220407T083000
DTEND;TZID=America/Chicago:20220407T090000
DTSTAMP:20260424T194834
CREATED:20220317T130424Z
LAST-MODIFIED:20220317T130640Z
UID:5406-1649320200-1649322000@100ruralwomen.org
SUMMARY:Morning Connections
DESCRIPTION:Register for this Morning Connection! \nThese sessions will consist of light conversation in an undirected space. Bring beverages\, children\, breakfast\, pets\, or work – the goal is to connect informally with a host who will facilitate.
URL:https://100ruralwomen.org/event/morning-connections0407/
LOCATION:Zoom
CATEGORIES:Morning Connections For Women
ATTACH;FMTTYPE=image/png:https://100ruralwomen.org/wp-content/uploads/2022/03/1-1.png
END:VEVENT
BEGIN:VEVENT
DTSTART;TZID=America/Chicago:20220331T083000
DTEND;TZID=America/Chicago:20220331T090000
DTSTAMP:20260424T194834
CREATED:20220316T143555Z
LAST-MODIFIED:20220317T130945Z
UID:5387-1648715400-1648717200@100ruralwomen.org
SUMMARY:Morning Connections
DESCRIPTION:Register for this Morning Connection! \nThese sessions will consist of light conversation in an undirected space. Bring beverages\, children\, breakfast\, pets\, or work – the goal is to connect informally with a host who will facilitate.
URL:https://100ruralwomen.org/event/morning-connections0331/
LOCATION:Zoom
CATEGORIES:Morning Connections For Women
ATTACH;FMTTYPE=image/png:https://100ruralwomen.org/wp-content/uploads/2022/03/1-1.png
END:VEVENT
BEGIN:VEVENT
DTSTART;TZID=America/Chicago:20220324T083000
DTEND;TZID=America/Chicago:20220324T090000
DTSTAMP:20260424T194834
CREATED:20220310T154737Z
LAST-MODIFIED:20220310T154930Z
UID:5334-1648110600-1648112400@100ruralwomen.org
SUMMARY:Morning Connections
DESCRIPTION:Register for this Morning Connection! \nThese sessions will consist of light conversation in an undirected space. Bring beverages\, children\, breakfast\, pets\, or work – the goal is to connect informally with a host who will facilitate.
URL:https://100ruralwomen.org/event/morning-connections0324/
LOCATION:Zoom
CATEGORIES:Morning Connections For Women
ATTACH;FMTTYPE=image/png:https://100ruralwomen.org/wp-content/uploads/2022/03/1-1.png
END:VEVENT
BEGIN:VEVENT
DTSTART;TZID=America/Chicago:20220317T083000
DTEND;TZID=America/Chicago:20220317T090000
DTSTAMP:20260424T194834
CREATED:20220302T161518Z
LAST-MODIFIED:20220305T002332Z
UID:5189-1647505800-1647507600@100ruralwomen.org
SUMMARY:Morning Connections
DESCRIPTION:Register for this Morning Connection! \nThese sessions will consist of light conversation in an undirected space. Bring beverages\, children\, breakfast\, pets\, or work – the goal is to connect informally with a host who will facilitate.
URL:https://100ruralwomen.org/event/morning-connections-0315/
LOCATION:Zoom
CATEGORIES:Morning Connections For Women
ATTACH;FMTTYPE=image/png:https://100ruralwomen.org/wp-content/uploads/2022/03/1-1.png
END:VEVENT
END:VCALENDAR