BEGIN:VCALENDAR
VERSION:2.0
PRODID:-//100 Rural Women - ECPv6.15.20//NONSGML v1.0//EN
CALSCALE:GREGORIAN
METHOD:PUBLISH
X-ORIGINAL-URL:https://100ruralwomen.org
X-WR-CALDESC:Events for 100 Rural Women
REFRESH-INTERVAL;VALUE=DURATION:PT1H
X-Robots-Tag:noindex
X-PUBLISHED-TTL:PT1H
BEGIN:VTIMEZONE
TZID:America/Chicago
BEGIN:DAYLIGHT
TZOFFSETFROM:-0600
TZOFFSETTO:-0500
TZNAME:CDT
DTSTART:20210314T080000
END:DAYLIGHT
BEGIN:STANDARD
TZOFFSETFROM:-0500
TZOFFSETTO:-0600
TZNAME:CST
DTSTART:20211107T070000
END:STANDARD
BEGIN:DAYLIGHT
TZOFFSETFROM:-0600
TZOFFSETTO:-0500
TZNAME:CDT
DTSTART:20220313T080000
END:DAYLIGHT
BEGIN:STANDARD
TZOFFSETFROM:-0500
TZOFFSETTO:-0600
TZNAME:CST
DTSTART:20221106T070000
END:STANDARD
BEGIN:DAYLIGHT
TZOFFSETFROM:-0600
TZOFFSETTO:-0500
TZNAME:CDT
DTSTART:20230312T080000
END:DAYLIGHT
BEGIN:STANDARD
TZOFFSETFROM:-0500
TZOFFSETTO:-0600
TZNAME:CST
DTSTART:20231105T070000
END:STANDARD
END:VTIMEZONE
BEGIN:VEVENT
DTSTART;TZID=America/Chicago:20220318T100000
DTEND;TZID=America/Chicago:20220318T110000
DTSTAMP:20260423T155530
CREATED:20220302T215759Z
LAST-MODIFIED:20220302T220516Z
UID:5200-1647597600-1647601200@100ruralwomen.org
SUMMARY:Ask a Leading Woman - Hara Charlier
DESCRIPTION:Join us for a “Ask a Leading Woman” with Hara Charlier\, President of Central Lakes College. \nRegister for Ask a Leading Woman with Hara Charlier! \nHara will share her life experiences and current work before we host a facilitated discussion. We invite you to join us exactly as you are for an empowering presentation about the different paths leadership can take in rural areas. Bring beverages\, children\, breakfast\, pets\, or work – we look forward to hosting you!
URL:https://100ruralwomen.org/event/ask-a-leading-woman-hara-charlier/
LOCATION:Zoom
CATEGORIES:Ask a Leading Woman
ATTACH;FMTTYPE=image/png:https://100ruralwomen.org/wp-content/uploads/2022/03/AALW-HaraCharlier.png
END:VEVENT
END:VCALENDAR